BEGIN:VCALENDAR
VERSION:2.0
PRODID:-//EPAS Portal - ECPv6.15.17//NONSGML v1.0//EN
CALSCALE:GREGORIAN
METHOD:PUBLISH
X-WR-CALNAME:EPAS Portal
X-ORIGINAL-URL:https://epas-ltd-portal.com
X-WR-CALDESC:Events for EPAS Portal
REFRESH-INTERVAL;VALUE=DURATION:PT1H
X-Robots-Tag:noindex
X-PUBLISHED-TTL:PT1H
BEGIN:VTIMEZONE
TZID:Europe/London
BEGIN:DAYLIGHT
TZOFFSETFROM:+0000
TZOFFSETTO:+0100
TZNAME:BST
DTSTART:20250330T010000
END:DAYLIGHT
BEGIN:STANDARD
TZOFFSETFROM:+0100
TZOFFSETTO:+0000
TZNAME:GMT
DTSTART:20251026T010000
END:STANDARD
BEGIN:DAYLIGHT
TZOFFSETFROM:+0000
TZOFFSETTO:+0100
TZNAME:BST
DTSTART:20260329T010000
END:DAYLIGHT
BEGIN:STANDARD
TZOFFSETFROM:+0100
TZOFFSETTO:+0000
TZNAME:GMT
DTSTART:20261025T010000
END:STANDARD
BEGIN:DAYLIGHT
TZOFFSETFROM:+0000
TZOFFSETTO:+0100
TZNAME:BST
DTSTART:20270328T010000
END:DAYLIGHT
BEGIN:STANDARD
TZOFFSETFROM:+0100
TZOFFSETTO:+0000
TZNAME:GMT
DTSTART:20271031T010000
END:STANDARD
END:VTIMEZONE
BEGIN:VEVENT
DTSTART;VALUE=DATE:20260514
DTEND;VALUE=DATE:20260515
DTSTAMP:20260422T120138
CREATED:20260306T155443Z
LAST-MODIFIED:20260306T155443Z
UID:1933-1778716800-1778803199@epas-ltd-portal.com
SUMMARY:Visa Expiry — Jim O'Neill
DESCRIPTION:
URL:https://epas-ltd-portal.com/event/visa-expiry-jim-oneill/
END:VEVENT
BEGIN:VEVENT
DTSTART;VALUE=DATE:20261211
DTEND;VALUE=DATE:20261212
DTSTAMP:20260422T120138
CREATED:20260306T161702Z
LAST-MODIFIED:20260306T161702Z
UID:1961-1796947200-1797033599@epas-ltd-portal.com
SUMMARY:Visa Expiry — Priyanka
DESCRIPTION:
URL:https://epas-ltd-portal.com/event/visa-expiry-priyanka/
END:VEVENT
END:VCALENDAR